BEGIN:VCALENDAR
VERSION:2.0
PRODID:-//O&#039;Hair Park Association - ECPv6.15.20//NONSGML v1.0//EN
CALSCALE:GREGORIAN
METHOD:PUBLISH
X-WR-CALNAME:O&#039;Hair Park Association
X-ORIGINAL-URL:https://ohairpark.org
X-WR-CALDESC:Events for O&#039;Hair Park Association
REFRESH-INTERVAL;VALUE=DURATION:PT1H
X-Robots-Tag:noindex
X-PUBLISHED-TTL:PT1H
BEGIN:VTIMEZONE
TZID:America/Detroit
BEGIN:DAYLIGHT
TZOFFSETFROM:-0500
TZOFFSETTO:-0400
TZNAME:EDT
DTSTART:20210314T070000
END:DAYLIGHT
BEGIN:STANDARD
TZOFFSETFROM:-0400
TZOFFSETTO:-0500
TZNAME:EST
DTSTART:20211107T060000
END:STANDARD
BEGIN:DAYLIGHT
TZOFFSETFROM:-0500
TZOFFSETTO:-0400
TZNAME:EDT
DTSTART:20220313T070000
END:DAYLIGHT
BEGIN:STANDARD
TZOFFSETFROM:-0400
TZOFFSETTO:-0500
TZNAME:EST
DTSTART:20221106T060000
END:STANDARD
BEGIN:DAYLIGHT
TZOFFSETFROM:-0500
TZOFFSETTO:-0400
TZNAME:EDT
DTSTART:20230312T070000
END:DAYLIGHT
BEGIN:STANDARD
TZOFFSETFROM:-0400
TZOFFSETTO:-0500
TZNAME:EST
DTSTART:20231105T060000
END:STANDARD
BEGIN:DAYLIGHT
TZOFFSETFROM:-0500
TZOFFSETTO:-0400
TZNAME:EDT
DTSTART:20240310T070000
END:DAYLIGHT
BEGIN:STANDARD
TZOFFSETFROM:-0400
TZOFFSETTO:-0500
TZNAME:EST
DTSTART:20241103T060000
END:STANDARD
END:VTIMEZONE
BEGIN:VEVENT
DTSTART;TZID=America/Detroit:20230427T173000
DTEND;TZID=America/Detroit:20230427T180000
DTSTAMP:20260419T111932
CREATED:20230227T154846Z
LAST-MODIFIED:20230227T154846Z
UID:3976-1682616600-1682618400@ohairpark.org
SUMMARY:DON Monthly Meeting - Crowell Community Center 042723
DESCRIPTION:DON Monthly Meeting –\nCrowell Community Center\nDATE: Thursday\, April 27\, 2023 \nLOCATION: Crowell Community Center 16630 Lahser Rd\, Detroit\, MI 48219 \nTIME: 5:30 pm \nMore info to come! Check back here or sign up for our Newsletter  to get updates sent directly to you.
URL:https://ohairpark.org/event/don-monthly-meeting-crowell-community-center-042723/
LOCATION:Crowell Community Center\, 16630 Lahser Rd\, Detroit\, MI\, 48219\, United States
CATEGORIES:Meeting
END:VEVENT
BEGIN:VEVENT
DTSTART;TZID=America/Detroit:20230422T100000
DTEND;TZID=America/Detroit:20230422T110000
DTSTAMP:20260419T111932
CREATED:20230227T154340Z
LAST-MODIFIED:20230227T154340Z
UID:3969-1682157600-1682161200@ohairpark.org
SUMMARY:D1 Monthly Meeting - 042223
DESCRIPTION:D1 Monthly Meeting\nDATE: Saturday\, April 22\, 2023 \nLOCATION: TBD \nTIME: 10:00 am \nMore info to come! Check back here or sign up for our Newsletter  to get updates sent directly to you.
URL:https://ohairpark.org/event/d1-monthly-meeting-042223/
CATEGORIES:Meeting
END:VEVENT
BEGIN:VEVENT
DTSTART;TZID=America/Detroit:20230422T090000
DTEND;TZID=America/Detroit:20230422T140000
DTSTAMP:20260419T111932
CREATED:20230227T154649Z
LAST-MODIFIED:20230227T154649Z
UID:3971-1682154000-1682172000@ohairpark.org
SUMMARY:Soccer in the D - O’Hair Park 042223
DESCRIPTION:Soccer in the D – O’Hair Park\nWHEN: Saturday\, April 22\, 2023 \nTime : 9:00am \nLocation: O’Hair Park\, Shelter at Pembroke & Edinborough \n19400 Pembroke Ave\, Detroit\, MI 48219 \nMore info to come! Check back here or sign up for our Newsletter  to get updates sent directly to you.
URL:https://ohairpark.org/event/soccer-in-the-d-ohair-park-042223/
LOCATION:O’Hair Park Shelter #1\, 20101 Stahelin Ave\, Detroit\, MI\, 48219\, United States
CATEGORIES:Events in the Park
END:VEVENT
BEGIN:VEVENT
DTSTART;TZID=America/Detroit:20230418T183000
DTEND;TZID=America/Detroit:20230418T193000
DTSTAMP:20260419T111932
CREATED:20230227T154159Z
LAST-MODIFIED:20230227T154159Z
UID:3967-1681842600-1681846200@ohairpark.org
SUMMARY:OHPCA ZOOM OPEN BOARD MEETING 041823
DESCRIPTION:OHPCA ZOOM open board MEETING\nThe Next OHPCA Open Board Meeting is\nTuesday\, April 18 at 6:30 pm \nZOOM info: https://us02web.zoom.us/j/87314421799? \npwd=cWliRmRmL0hXOGNFOENCOUp0V0MxUT09 \nMeeting ID: 873 1442 1799 \nPasscode: 019318
URL:https://ohairpark.org/event/ohpca-zoom-open-board-meeting-041823/
CATEGORIES:Meeting
END:VEVENT
BEGIN:VEVENT
DTSTART;TZID=America/Detroit:20230415T100000
DTEND;TZID=America/Detroit:20230415T120000
DTSTAMP:20260419T111932
CREATED:20230227T153600Z
LAST-MODIFIED:20230227T153600Z
UID:3963-1681552800-1681560000@ohairpark.org
SUMMARY:Calvary Presbyterian Church Food Distribution 041523
DESCRIPTION:Calvary Presbyterian Church Food Distribution\nDATE: Saturday\, April 15\, 2023 \nLOCATION: Calvary Presbyterian Church – Fellowship Hall\, 19125 Greenview Avenue\, Detroit\, MI 48219 \nTIME: 10:00 am \nMore info to come! Check back here or sign up for our Newsletter  to get updates sent directly to you.
URL:https://ohairpark.org/event/calvary-presbyterian-church-food-distribution-041523/
LOCATION:Calvary Presbyterian Church Hall\, 19125 Greenview Ave\,\, Detroit\,\, MI\, 48219\, United States
CATEGORIES:Meeting
END:VEVENT
BEGIN:VEVENT
DTSTART;TZID=America/Detroit:20230401T090000
DTEND;TZID=America/Detroit:20230401T140000
DTSTAMP:20260419T111932
CREATED:20230227T153454Z
LAST-MODIFIED:20230227T153454Z
UID:3961-1680339600-1680357600@ohairpark.org
SUMMARY:DP Partnership Day (UM) - Clean up 040123
DESCRIPTION:DP Partnership Day (UM) –\nClean up 040123\nWHEN: Saturday\, April 1\, 2023 \nTime : 9:00am \nLocation: O’Hair Park\, Shelter at Pembroke & Edinborough \n19400 Pembroke Ave\, Detroit\, MI 48219 \nMore info to come! Check back here or sign up for our Newsletter  to get updates sent directly to you.
URL:https://ohairpark.org/event/dp-partnership-day-um-clean-up-040123/
LOCATION:O’Hair Park Shelter #1\, 20101 Stahelin Ave\, Detroit\, MI\, 48219\, United States
CATEGORIES:Events in the Park
END:VEVENT
BEGIN:VEVENT
DTSTART;TZID=America/Detroit:20230325T100000
DTEND;TZID=America/Detroit:20230325T110000
DTSTAMP:20260419T111932
CREATED:20230227T153030Z
LAST-MODIFIED:20230227T153030Z
UID:3959-1679738400-1679742000@ohairpark.org
SUMMARY:D1 Monthly Meeting - 032523
DESCRIPTION:D1 Monthly Meeting\nDATE: Thursday\, March 25\, 2023 \nLOCATION: TBD \nTIME: 10:00 am \nMore info to come! Check back here or sign up for our Newsletter  to get updates sent directly to you.
URL:https://ohairpark.org/event/d1-monthly-meeting-032523/
CATEGORIES:Meeting
END:VEVENT
BEGIN:VEVENT
DTSTART;TZID=America/Detroit:20230323T173000
DTEND;TZID=America/Detroit:20230323T180000
DTSTAMP:20260419T111932
CREATED:20230227T152803Z
LAST-MODIFIED:20230227T152803Z
UID:3954-1679592600-1679594400@ohairpark.org
SUMMARY:DON Monthly Meeting - Crowell Community Center 032323
DESCRIPTION:DON Monthly Meeting –\nCrowell Community Center\nDATE: Thursday\, March 23\, 2023 \nLOCATION: Crowell Community Center 16630 Lahser Rd\, Detroit\, MI 48219 \nTIME: 5:30 pm \nMore info to come! Check back here or sign up for our Newsletter  to get updates sent directly to you.
URL:https://ohairpark.org/event/don-monthly-meeting-crowell-community-center-032323/
LOCATION:Crowell Community Center\, 16630 Lahser Rd\, Detroit\, MI\, 48219\, United States
CATEGORIES:Meeting
END:VEVENT
BEGIN:VEVENT
DTSTART;VALUE=DATE:20230323
DTEND;VALUE=DATE:20230324
DTSTAMP:20260419T111932
CREATED:20230227T151550Z
LAST-MODIFIED:20230227T151841Z
UID:3951-1679529600-1679615999@ohairpark.org
SUMMARY:Henry Ford Seniors - Community Day at O’Hair Park 032023
DESCRIPTION:Henry Ford Seniors –\nCommunity Day at O’Hair Park\nMonday\, March 20\, 2023 \nTime :TBD \nLocation: O’Hair Park\, Shelter at Pembroke & Edinborough \n19400 Pembroke Ave\, Detroit\, MI 48219 \nMore info to come! Check back here or sign up for our Newsletter  to get updates sent directly to you.
URL:https://ohairpark.org/event/henry-ford-seniors-community-day-at-ohair-park-032023/
LOCATION:O’Hair Park Shelter #1\, 20101 Stahelin Ave\, Detroit\, MI\, 48219\, United States
CATEGORIES:Events in the Park
END:VEVENT
BEGIN:VEVENT
DTSTART;TZID=America/Detroit:20230318T100000
DTEND;TZID=America/Detroit:20230318T120000
DTSTAMP:20260419T111932
CREATED:20230227T150305Z
LAST-MODIFIED:20230227T151620Z
UID:3947-1679133600-1679140800@ohairpark.org
SUMMARY:Calvary Presbyterian Church Food Distribution 031823
DESCRIPTION:Calvary Presbyterian Church Food Distribution\nDATE: Saturday\, March 18\, 2023 \nLOCATION: Calvary Presbyterian Church – Fellowship Hall\, 19125 Greenview Avenue\, Detroit\, MI 48219 \nTIME: 10:00 am \nMore info to come! Check back here or sign up for our Newsletter  to get updates sent directly to you.
URL:https://ohairpark.org/event/calvary-presbyterian-church-food-distribution-031823/
LOCATION:Calvary Presbyterian Church Hall\, 19125 Greenview Ave\,\, Detroit\,\, MI\, 48219\, United States
CATEGORIES:Meeting
END:VEVENT
BEGIN:VEVENT
DTSTART;TZID=America/Detroit:20230301T180000
DTEND;TZID=America/Detroit:20230301T190000
DTSTAMP:20260419T111932
CREATED:20230226T210359Z
LAST-MODIFIED:20230227T153707Z
UID:3934-1677693600-1677697200@ohairpark.org
SUMMARY:O'Hair Park Community ZOOM Meeting 030123
DESCRIPTION:O’Hair park community meeting!\nZOOM info: \n https://us02web.zoom.us/j/82402115083? \npwd=LytnNE9PeStiUUg1ZnZ2TFZERW8vdz09 \nMeeting ID: 824 0211 5083 \nPasscode: 747965 \n \n 
URL:https://ohairpark.org/event/park-community-meeting-030123/
CATEGORIES:Meeting
END:VEVENT
BEGIN:VEVENT
DTSTART;TZID=America/Detroit:20221215T180000
DTEND;TZID=America/Detroit:20221215T200000
DTSTAMP:20260419T111932
CREATED:20220821T112722Z
LAST-MODIFIED:20221112T173436Z
UID:3852-1671127200-1671134400@ohairpark.org
SUMMARY:End of the Year Celebration 121522
DESCRIPTION:End of the Year Celebration\nYou are cordially invited to attend a “Winter Wonderland – End of the Year Celebration\,” presented by the O’Hair Park Community Association. \nDATE: December 15\, 2022 \nLOCATION: Calvary Presbyterian Church – Fellowship Hall\, 19125 Greenview Avenue\, Detroit\, MI 48219 \nTIME: 6:00 pm\, CHECK IN: 5:30 pm \nYou MUST RSVP by Monday\, December 12th by 5:00 pm here \nWE WILL START PROMPTLY AT 6:00 PM
URL:https://ohairpark.org/event/end-of-the-year-celebration-121522/
LOCATION:Calvary Presbyterian Church Hall\, 19125 Greenview Ave\,\, Detroit\,\, MI\, 48219\, United States
CATEGORIES:Meeting
END:VEVENT
BEGIN:VEVENT
DTSTART;TZID=America/Detroit:20221031T170000
DTEND;TZID=America/Detroit:20221031T190000
DTSTAMP:20260419T111932
CREATED:20220821T112434Z
LAST-MODIFIED:20221017T214353Z
UID:3850-1667235600-1667242800@ohairpark.org
SUMMARY:SCARE IN O'HAIR 103122
DESCRIPTION:scare in o’hair\nScare in O’Hair\nOctober 31 5:00 – 7:30 pm\nLocation: O’Hair Park\, Shelter at Pembroke & Edinborough \nPre-Registration is suggested \nJoin us for Scare in O’Hair 2022! O’Hair Park Detroit\nJoin us for Scare in O’Hair 2022! O’Hair Park Detroit
URL:https://ohairpark.org/event/scare-in-ohair-103122/
LOCATION:O’Hair Park Shelter #1\, 20101 Stahelin Ave\, Detroit\, MI\, 48219\, United States
CATEGORIES:Events in the Park
END:VEVENT
BEGIN:VEVENT
DTSTART;TZID=America/Detroit:20221020T180000
DTEND;TZID=America/Detroit:20221020T200000
DTSTAMP:20260419T111932
CREATED:20220821T111958Z
LAST-MODIFIED:20221017T214814Z
UID:3846-1666288800-1666296000@ohairpark.org
SUMMARY:OHPCA GENERAL COMMITTEE MEETING 102022
DESCRIPTION:Join us for a special OHPCA GENERAL COMMITTEE MEETING!\nThe Next OHPCA General Community Meeting is\nNEW DATE!! Thursday\, October 20th from 6-8pm\nLocation Calvary Presbyterian Church Hall \n  \n  \n 
URL:https://ohairpark.org/event/ohpca-general-committee-meeting-10202/
LOCATION:Calvary Presbyterian Church Hall\, 19125 Greenview Ave\,\, Detroit\,\, MI\, 48219\, United States
CATEGORIES:Meeting
END:VEVENT
BEGIN:VEVENT
DTSTART;TZID=America/Detroit:20221018T180000
DTEND;TZID=America/Detroit:20221018T190000
DTSTAMP:20260419T111932
CREATED:20220821T112153Z
LAST-MODIFIED:20220821T112153Z
UID:3848-1666116000-1666119600@ohairpark.org
SUMMARY:OHPCA OPEN BOARD MEETING 101822
DESCRIPTION:OHPCA open board MEETING\nThe Next OHPCA Open Board Meeting is\nOctober 18 at 6:00 pm\nLocation TBD
URL:https://ohairpark.org/event/ohpca-general-committee-meeting-101822/
CATEGORIES:Meeting
END:VEVENT
BEGIN:VEVENT
DTSTART;TZID=America/Detroit:20220825T180000
DTEND;TZID=America/Detroit:20220825T190000
DTSTAMP:20260419T111932
CREATED:20220821T111717Z
LAST-MODIFIED:20220821T111717Z
UID:3844-1661450400-1661454000@ohairpark.org
SUMMARY:OHPCA GENERAL COMMITTEE MEETING 082522
DESCRIPTION:OHPCA GENERAL COMMITTEE MEETING\nThe Next OHPCA General Community Meeting is\nAugust 25 at 6:00 pm\nLocation: O’Hair Park\, Stahelin side shelter\nGuests: 8th Precinct\, Crowell Rec Center
URL:https://ohairpark.org/event/ohpca-general-committee-meeting-082522/
LOCATION:O’Hair Park Shelter #1\, 20101 Stahelin Ave\, Detroit\, MI\, 48219\, United States
CATEGORIES:Meeting
END:VEVENT
BEGIN:VEVENT
DTSTART;TZID=America/Detroit:20220806T130000
DTEND;TZID=America/Detroit:20220806T180000
DTSTAMP:20260419T111932
CREATED:20220627T205608Z
LAST-MODIFIED:20220712T120607Z
UID:3814-1659790800-1659808800@ohairpark.org
SUMMARY:OHPCA Arise Detroit
DESCRIPTION:JOIN OHPCA for ARISE DETROIT’s NEIGHBORHOOD’s DAY at O’Hair Park\nSave the Date!\nAug 6th is Arise Detroit ‘s 16th Annual Neighborhood Day!\nJoin us from 1-6 for a day of neighborhood pride and power.\nCome back for registration and event information soon…\n#ohpca #arisedetroitneighborhoodday\n#community #detroit #ohairpark \nOHPCA Arise Detroit Neighborhood’s Day 2022
URL:https://ohairpark.org/event/ohpca-arise-detroit/
LOCATION:O’Hair Park Shelter #1\, 20101 Stahelin Ave\, Detroit\, MI\, 48219\, United States
CATEGORIES:Events in the Park
END:VEVENT
BEGIN:VEVENT
DTSTART;VALUE=DATE:20220806
DTEND;VALUE=DATE:20220807
DTSTAMP:20260419T111932
CREATED:20220606T033503Z
LAST-MODIFIED:20220606T034035Z
UID:3794-1659744000-1659830399@ohairpark.org
SUMMARY:SPECIAL DEMONSTRATION! OHPCA Martial Arts In The Park 08062022
DESCRIPTION:Join Martial arts In The Park FOR A SPECIAL ARISE DETROIT DEMONSTRATION! 
URL:https://ohairpark.org/event/ohpca-martial-arts-in-the-park-08062022/
LOCATION:O’Hair Park Shelter #1\, 20101 Stahelin Ave\, Detroit\, MI\, 48219\, United States
CATEGORIES:Events in the Park
END:VEVENT
BEGIN:VEVENT
DTSTART;TZID=America/Detroit:20220804T140000
DTEND;TZID=America/Detroit:20220804T150000
DTSTAMP:20260419T111932
CREATED:20220606T033318Z
LAST-MODIFIED:20220702T130411Z
UID:3792-1659621600-1659625200@ohairpark.org
SUMMARY:OHPCA Martial Arts In The Park 08042022
DESCRIPTION:Join us for OHPCA Martial arts In The Park!\nRegistration and Check In is Mandatory!\nPreregister below to save time at check-in at event.\n\nRegister here!
URL:https://ohairpark.org/event/ohpca-martial-arts-in-the-park-08042022/
LOCATION:O’Hair Park Shelter #1\, 20101 Stahelin Ave\, Detroit\, MI\, 48219\, United States
CATEGORIES:Events in the Park
END:VEVENT
BEGIN:VEVENT
DTSTART;TZID=America/Detroit:20220802T180000
DTEND;TZID=America/Detroit:20220802T190000
DTSTAMP:20260419T111932
CREATED:20220606T024804Z
LAST-MODIFIED:20220702T131315Z
UID:3761-1659463200-1659466800@ohairpark.org
SUMMARY:LAST DAY! OHPCA Hustle In The Park 08022022
DESCRIPTION:Join us for OHPCA Hustle In The Park!\nRegistration and Check In is Mandatory!\nPreregister below to save time at check-in at event.\n\nRegister here!
URL:https://ohairpark.org/event/last-day-ohpca-hustle-in-the-park-08022022/
LOCATION:O’Hair Park Shelter #1\, 20101 Stahelin Ave\, Detroit\, MI\, 48219\, United States
CATEGORIES:Events in the Park
END:VEVENT
BEGIN:VEVENT
DTSTART;TZID=America/Detroit:20220801T180000
DTEND;TZID=America/Detroit:20220801T190000
DTSTAMP:20260419T111932
CREATED:20220606T031312Z
LAST-MODIFIED:20220606T031412Z
UID:3777-1659376800-1659380400@ohairpark.org
SUMMARY:LAST DAY!! OHPCA Yoga In The Park 08012022
DESCRIPTION:Join us for OHPCA YOGA In The Park!\nRegistration and Check In is Mandatory!\nPreregister below to save time at check-in at event.\n\nRegister here!
URL:https://ohairpark.org/event/ohpca-yoga-in-the-park-08012022/
LOCATION:O’Hair Park Shelter #1\, 20101 Stahelin Ave\, Detroit\, MI\, 48219\, United States
CATEGORIES:Events in the Park
END:VEVENT
BEGIN:VEVENT
DTSTART;TZID=America/Detroit:20220728T140000
DTEND;TZID=America/Detroit:20220728T150000
DTSTAMP:20260419T111932
CREATED:20220606T033226Z
LAST-MODIFIED:20220702T130423Z
UID:3790-1659016800-1659020400@ohairpark.org
SUMMARY:OHPCA Martial Arts In The Park 07282022
DESCRIPTION:Join us for OHPCA Martial arts In The Park!\nRegistration and Check In is Mandatory!\nPreregister below to save time at check-in at event.\n\nRegister here!
URL:https://ohairpark.org/event/ohpca-martial-arts-in-the-park-07282022/
LOCATION:O’Hair Park Shelter #1\, 20101 Stahelin Ave\, Detroit\, MI\, 48219\, United States
CATEGORIES:Events in the Park
END:VEVENT
BEGIN:VEVENT
DTSTART;TZID=America/Detroit:20220726T180000
DTEND;TZID=America/Detroit:20220726T190000
DTSTAMP:20260419T111932
CREATED:20220606T023723Z
LAST-MODIFIED:20220702T131223Z
UID:3746-1658858400-1658862000@ohairpark.org
SUMMARY:OHPCA Hustle In The Park 07262022
DESCRIPTION:Join us for OHPCA Hustle In The Park!\nRegistration and Check In is Mandatory!\nPreregister below to save time at check-in at event.\n\nRegister here!
URL:https://ohairpark.org/event/ohpca-hustle-in-the-park-07262022/
LOCATION:O’Hair Park Shelter #1\, 20101 Stahelin Ave\, Detroit\, MI\, 48219\, United States
CATEGORIES:Events in the Park
END:VEVENT
BEGIN:VEVENT
DTSTART;TZID=America/Detroit:20220725T180000
DTEND;TZID=America/Detroit:20220725T190000
DTSTAMP:20260419T111932
CREATED:20220606T031211Z
LAST-MODIFIED:20220606T031211Z
UID:3775-1658772000-1658775600@ohairpark.org
SUMMARY:OHPCA Yoga In The Park 07252022
DESCRIPTION:Join us for OHPCA YOGA In The Park!\nRegistration and Check In is Mandatory!\nPreregister below to save time at check-in at event.\n\nRegister here!
URL:https://ohairpark.org/event/ohpca-yoga-in-the-park-07252022/
LOCATION:O’Hair Park Shelter #1\, 20101 Stahelin Ave\, Detroit\, MI\, 48219\, United States
CATEGORIES:Events in the Park
END:VEVENT
BEGIN:VEVENT
DTSTART;TZID=America/Detroit:20220721T140000
DTEND;TZID=America/Detroit:20220721T150000
DTSTAMP:20260419T111932
CREATED:20220606T033105Z
LAST-MODIFIED:20220702T130436Z
UID:3788-1658412000-1658415600@ohairpark.org
SUMMARY:OHPCA Martial Arts In The Park 07212022
DESCRIPTION:Join us for OHPCA Martial arts In The Park!\nRegistration and Check In is Mandatory!\nPreregister below to save time at check-in at event.\n\nRegister here!
URL:https://ohairpark.org/event/ohpca-martial-arts-in-the-park-07212022/
LOCATION:O’Hair Park Shelter #1\, 20101 Stahelin Ave\, Detroit\, MI\, 48219\, United States
CATEGORIES:Events in the Park
END:VEVENT
BEGIN:VEVENT
DTSTART;TZID=America/Detroit:20220719T180000
DTEND;TZID=America/Detroit:20220719T190000
DTSTAMP:20260419T111932
CREATED:20220606T024621Z
LAST-MODIFIED:20220606T024621Z
UID:3759-1658253600-1658257200@ohairpark.org
SUMMARY:OHPCA Hustle In The Park 07192022
DESCRIPTION:Join us for OHPCA Hustle In The Park!\nRegistration and Check In is Mandatory!\nPreregister below to save time at check-in at event.\n\nRegister here!
URL:https://ohairpark.org/event/ohpca-hustle-in-the-park-07192022/
LOCATION:O’Hair Park Shelter #1\, 20101 Stahelin Ave\, Detroit\, MI\, 48219\, United States
CATEGORIES:Events in the Park
END:VEVENT
BEGIN:VEVENT
DTSTART;TZID=America/Detroit:20220718T180000
DTEND;TZID=America/Detroit:20220718T190000
DTSTAMP:20260419T111932
CREATED:20220606T031033Z
LAST-MODIFIED:20220606T031033Z
UID:3772-1658167200-1658170800@ohairpark.org
SUMMARY:OHPCA Yoga In The Park 07182022
DESCRIPTION:Join us for OHPCA YOGA In The Park!\nRegistration and Check In is Mandatory!\nPreregister below to save time at check-in at event.\n\nRegister here!
URL:https://ohairpark.org/event/ohpca-yoga-in-the-park-07182022/
LOCATION:O’Hair Park Shelter #1\, 20101 Stahelin Ave\, Detroit\, MI\, 48219\, United States
CATEGORIES:Events in the Park
END:VEVENT
BEGIN:VEVENT
DTSTART;TZID=America/Detroit:20220714T140000
DTEND;TZID=America/Detroit:20220714T150000
DTSTAMP:20260419T111932
CREATED:20220606T032904Z
LAST-MODIFIED:20220702T130448Z
UID:3786-1657807200-1657810800@ohairpark.org
SUMMARY:OHPCA Martial Arts In The Park 07142022
DESCRIPTION:Join us for OHPCA Martial arts In The Park!\nRegistration and Check In is Mandatory!\nPreregister below to save time at check-in at event.\n\nRegister here!
URL:https://ohairpark.org/event/ohpca-martial-arts-in-the-park-07142022/
LOCATION:O’Hair Park Shelter #1\, 20101 Stahelin Ave\, Detroit\, MI\, 48219\, United States
CATEGORIES:Events in the Park
END:VEVENT
BEGIN:VEVENT
DTSTART;TZID=America/Detroit:20220712T180000
DTEND;TZID=America/Detroit:20220712T190000
DTSTAMP:20260419T111932
CREATED:20220606T024452Z
LAST-MODIFIED:20220606T024452Z
UID:3757-1657648800-1657652400@ohairpark.org
SUMMARY:OHPCA Hustle In The Park 07122022
DESCRIPTION:Join us for OHPCA Hustle In The Park!\nRegistration and Check In is Mandatory!\nPreregister below to save time at check-in at event.\n\nRegister here!
URL:https://ohairpark.org/event/ohpca-hustle-in-the-park-07122022/
LOCATION:O’Hair Park Shelter #1\, 20101 Stahelin Ave\, Detroit\, MI\, 48219\, United States
CATEGORIES:Events in the Park
END:VEVENT
BEGIN:VEVENT
DTSTART;TZID=America/Detroit:20220711T180000
DTEND;TZID=America/Detroit:20220711T190000
DTSTAMP:20260419T111932
CREATED:20220606T030836Z
LAST-MODIFIED:20220606T030959Z
UID:3769-1657562400-1657566000@ohairpark.org
SUMMARY:OHPCA Yoga In The Park 07112022
DESCRIPTION:Join us for OHPCA YOGA In The Park!\nRegistration and Check In is Mandatory!\nPreregister below to save time at check-in at event.\n\nRegister here!
URL:https://ohairpark.org/event/ohpca-yoga-in-the-park-07112022/
LOCATION:O’Hair Park Shelter #1\, 20101 Stahelin Ave\, Detroit\, MI\, 48219\, United States
CATEGORIES:Events in the Park
END:VEVENT
END:VCALENDAR