BEGIN:VCALENDAR
VERSION:2.0
PRODID:-//O&#039;Hair Park Association - ECPv6.15.20//NONSGML v1.0//EN
CALSCALE:GREGORIAN
METHOD:PUBLISH
X-WR-CALNAME:O&#039;Hair Park Association
X-ORIGINAL-URL:https://ohairpark.org
X-WR-CALDESC:Events for O&#039;Hair Park Association
REFRESH-INTERVAL;VALUE=DURATION:PT1H
X-Robots-Tag:noindex
X-PUBLISHED-TTL:PT1H
BEGIN:VTIMEZONE
TZID:America/Detroit
BEGIN:DAYLIGHT
TZOFFSETFROM:-0500
TZOFFSETTO:-0400
TZNAME:EDT
DTSTART:20220313T070000
END:DAYLIGHT
BEGIN:STANDARD
TZOFFSETFROM:-0400
TZOFFSETTO:-0500
TZNAME:EST
DTSTART:20221106T060000
END:STANDARD
BEGIN:DAYLIGHT
TZOFFSETFROM:-0500
TZOFFSETTO:-0400
TZNAME:EDT
DTSTART:20230312T070000
END:DAYLIGHT
BEGIN:STANDARD
TZOFFSETFROM:-0400
TZOFFSETTO:-0500
TZNAME:EST
DTSTART:20231105T060000
END:STANDARD
BEGIN:DAYLIGHT
TZOFFSETFROM:-0500
TZOFFSETTO:-0400
TZNAME:EDT
DTSTART:20240310T070000
END:DAYLIGHT
BEGIN:STANDARD
TZOFFSETFROM:-0400
TZOFFSETTO:-0500
TZNAME:EST
DTSTART:20241103T060000
END:STANDARD
END:VTIMEZONE
BEGIN:VEVENT
DTSTART;TZID=America/Detroit:20231207T180000
DTEND;TZID=America/Detroit:20231207T200000
DTSTAMP:20260419T224629
CREATED:20230818T170941Z
LAST-MODIFIED:20231130T150052Z
UID:4308-1701972000-1701979200@ohairpark.org
SUMMARY:End of the Year Celebration 120723
DESCRIPTION:End of the Year Celebration\npresented by the O’Hair Park Community Association \nDATE: December 07\, 2023 \nPlease join us for the O’Hair Park Community Association End of the Year Celebration – 10 Years and Counting! \nEnjoy a special celebration of success full of food & fun memories! Calvary Presbyterian Church Detroit \n 
URL:https://ohairpark.org/event/end-of-the-year-celebration-120723/
LOCATION:Calvary Presbyterian Church Hall\, 19125 Greenview Ave\,\, Detroit\,\, MI\, 48219\, United States
CATEGORIES:Meeting
END:VEVENT
BEGIN:VEVENT
DTSTART;TZID=America/Detroit:20231031T170000
DTEND;TZID=America/Detroit:20231031T190000
DTSTAMP:20260419T224629
CREATED:20240212T132538Z
LAST-MODIFIED:20240212T132538Z
UID:4403-1698771600-1698778800@ohairpark.org
SUMMARY:SCARE IN O'HAIR 103124
DESCRIPTION:scare in o’hair\nScare in O’Hair\nOctober 31\nLocation: O’Hair Park\, Shelter at Pembroke & Edinborough \nmore info coming soon!
URL:https://ohairpark.org/event/scare-in-ohair-103124/
LOCATION:O’Hair Park Shelter #1\, 20101 Stahelin Ave\, Detroit\, MI\, 48219\, United States
CATEGORIES:Events in the Park
END:VEVENT
BEGIN:VEVENT
DTSTART;TZID=America/Detroit:20231031T170000
DTEND;TZID=America/Detroit:20231031T190000
DTSTAMP:20260419T224629
CREATED:20230818T170720Z
LAST-MODIFIED:20230818T170720Z
UID:4306-1698771600-1698778800@ohairpark.org
SUMMARY:SCARE IN O'HAIR 103123
DESCRIPTION:scare in o’hair\nScare in O’Hair\nOctober 31\nLocation: O’Hair Park\, Shelter at Pembroke & Edinborough \nmore info coming soon!
URL:https://ohairpark.org/event/scare-in-ohair-103123/
LOCATION:O’Hair Park Shelter #1\, 20101 Stahelin Ave\, Detroit\, MI\, 48219\, United States
CATEGORIES:Events in the Park
END:VEVENT
BEGIN:VEVENT
DTSTART;TZID=America/Detroit:20231026T180000
DTEND;TZID=America/Detroit:20231026T190000
DTSTAMP:20260419T224629
CREATED:20230818T170538Z
LAST-MODIFIED:20231012T154336Z
UID:4304-1698343200-1698346800@ohairpark.org
SUMMARY:OHPCA General Community Meeting 102623
DESCRIPTION:Save the Date for our Community Meetings that are open to\nthe public! Come share your thoughts on how to improve our\nneighborhood one block at a time! We always have great\nsurprises for our attendees\, please join us! \nAGENDA:\nhttps://docs.google.com/document/d/1TDfccINrVhKqDrT1VAyYxhTSrTtYKxAI/edit \nMEET US AT:\nCorpus Christi’s Rainbow Room\n19800 Pembroke Ave\nDetroit\, MI 48219 \n \n 
URL:https://ohairpark.org/event/ohpca-general-community-meeting-102623/
CATEGORIES:Meeting
END:VEVENT
BEGIN:VEVENT
DTSTART;TZID=America/Detroit:20231017T183000
DTEND;TZID=America/Detroit:20231017T193000
DTSTAMP:20260419T224629
CREATED:20230818T170348Z
LAST-MODIFIED:20231011T210654Z
UID:4302-1697567400-1697571000@ohairpark.org
SUMMARY:OHPCA ZOOM OPEN BOARD MEETING 101723
DESCRIPTION:OHPCA ZOOM open board MEETING\nThe Next OHPCA Open Board Meeting is\nOct 17 at 6:30 pm \nAGENDA:\nWe’ll discuss updates on future events\, neighborhood initiatives\, and hear from the community about their needs. \nJOIN US ON ZOOM:\nhttps://us02web.zoom.us/j/83378889142?pwd=VTFZOU81TU5DUGxZcGpaQTVBa21Gdz09 \nPasscode: 834902 \nMeeting ID: 833 7888 9142\n+1 929 205 6099 US (New York)\n+1 301 715 8592 US (Washington DC) \n \n  \n 
URL:https://ohairpark.org/event/ohpca-zoom-open-board-meeting-101723/
CATEGORIES:Meeting
END:VEVENT
BEGIN:VEVENT
DTSTART;TZID=America/Detroit:20230901T183000
DTEND;TZID=America/Detroit:20230901T193000
DTSTAMP:20260419T224629
CREATED:20230630T023943Z
LAST-MODIFIED:20230630T023943Z
UID:4221-1693593000-1693596600@ohairpark.org
SUMMARY:Walking Club In The Park 090123
DESCRIPTION:Join OUR WALKING CLUB In The Park!\nGet details and register here!
URL:https://ohairpark.org/event/walking-club-in-the-park-090123/
LOCATION:O’Hair Park Shelter #1\, 20101 Stahelin Ave\, Detroit\, MI\, 48219\, United States
CATEGORIES:Events in the Park
END:VEVENT
BEGIN:VEVENT
DTSTART;TZID=America/Detroit:20230831T180000
DTEND;TZID=America/Detroit:20230831T190000
DTSTAMP:20260419T224629
CREATED:20230630T022535Z
LAST-MODIFIED:20230630T022535Z
UID:4196-1693504800-1693508400@ohairpark.org
SUMMARY:Yoga In The Park 083123
DESCRIPTION:Join us for YOGA In The Park!\nGet details and register here!\n\n2023 OHPCA & Detroit Pistons Neighbors Program ~ Yoga in the Park
URL:https://ohairpark.org/event/yoga-in-the-park-083123/
LOCATION:O’Hair Park Shelter #1\, 20101 Stahelin Ave\, Detroit\, MI\, 48219\, United States
CATEGORIES:Events in the Park
END:VEVENT
BEGIN:VEVENT
DTSTART;TZID=America/Detroit:20230830T140000
DTEND;TZID=America/Detroit:20230830T160000
DTSTAMP:20260419T224629
CREATED:20230630T015943Z
LAST-MODIFIED:20230717T124527Z
UID:4148-1693404000-1693411200@ohairpark.org
SUMMARY:Fun Nature Activities In The Park 083023
DESCRIPTION:Join us for Fun Nature Activities In The Park 083023\nGet details and register here!
URL:https://ohairpark.org/event/fun-nature-activities-in-the-park-083023/
LOCATION:O’Hair Park Shelter #1\, 20101 Stahelin Ave\, Detroit\, MI\, 48219\, United States
CATEGORIES:Events in the Park
END:VEVENT
BEGIN:VEVENT
DTSTART;TZID=America/Detroit:20230830T140000
DTEND;TZID=America/Detroit:20230830T150000
DTSTAMP:20260419T224629
CREATED:20230630T013746Z
LAST-MODIFIED:20230630T013746Z
UID:4105-1693404000-1693407600@ohairpark.org
SUMMARY:Martial Arts In The Park 083023
DESCRIPTION:Join us for Martial arts In The Park!\nGet details and Register here!
URL:https://ohairpark.org/event/martial-arts-in-the-park-083023/
LOCATION:O’Hair Park Shelter #1\, 20101 Stahelin Ave\, Detroit\, MI\, 48219\, United States
CATEGORIES:Events in the Park
END:VEVENT
BEGIN:VEVENT
DTSTART;TZID=America/Detroit:20230830T130000
DTEND;TZID=America/Detroit:20230830T160000
DTSTAMP:20260419T224629
CREATED:20230630T015613Z
LAST-MODIFIED:20230630T015613Z
UID:4146-1693400400-1693411200@ohairpark.org
SUMMARY:Free Play In The Park 083023
DESCRIPTION:Join us for FREE PLAY In The Park!\nGet details here!\nNo registration needed\, just show up and play!
URL:https://ohairpark.org/event/free-play-in-the-park-083023/
LOCATION:O’Hair Park Shelter #1\, 20101 Stahelin Ave\, Detroit\, MI\, 48219\, United States
CATEGORIES:Events in the Park
END:VEVENT
BEGIN:VEVENT
DTSTART;TZID=America/Detroit:20230830T130000
DTEND;TZID=America/Detroit:20230830T140000
DTSTAMP:20260419T224629
CREATED:20230630T014035Z
LAST-MODIFIED:20230630T014035Z
UID:4107-1693400400-1693404000@ohairpark.org
SUMMARY:Basketball In The Park 083023
DESCRIPTION:Join us for basketball In The Park!\nGet details and Register here!\n\n\n 
URL:https://ohairpark.org/event/basketball-in-the-park-083023/
LOCATION:O’Hair Park Shelter #1\, 20101 Stahelin Ave\, Detroit\, MI\, 48219\, United States
CATEGORIES:Events in the Park
END:VEVENT
BEGIN:VEVENT
DTSTART;TZID=America/Detroit:20230829T183000
DTEND;TZID=America/Detroit:20230829T193000
DTSTAMP:20260419T224629
CREATED:20230630T024852Z
LAST-MODIFIED:20230630T024852Z
UID:4240-1693333800-1693337400@ohairpark.org
SUMMARY:Healthy Hustle in the Park 082923
DESCRIPTION:Join OUR healthy hustle In The Park!\nGet details and register here!
URL:https://ohairpark.org/event/healthy-hustle-in-the-park-082923/
LOCATION:O’Hair Park Shelter #1\, 20101 Stahelin Ave\, Detroit\, MI\, 48219\, United States
CATEGORIES:Events in the Park
END:VEVENT
BEGIN:VEVENT
DTSTART;TZID=America/Detroit:20230825T183000
DTEND;TZID=America/Detroit:20230825T193000
DTSTAMP:20260419T224629
CREATED:20230630T023855Z
LAST-MODIFIED:20230630T023855Z
UID:4219-1692988200-1692991800@ohairpark.org
SUMMARY:Walking Club In The Park 082523
DESCRIPTION:Join OUR WALKING CLUB In The Park!\nGet details and register here!
URL:https://ohairpark.org/event/walking-club-in-the-park-082523/
LOCATION:O’Hair Park Shelter #1\, 20101 Stahelin Ave\, Detroit\, MI\, 48219\, United States
CATEGORIES:Events in the Park
END:VEVENT
BEGIN:VEVENT
DTSTART;TZID=America/Detroit:20230824T180000
DTEND;TZID=America/Detroit:20230824T190000
DTSTAMP:20260419T224629
CREATED:20230630T022459Z
LAST-MODIFIED:20230630T022459Z
UID:4194-1692900000-1692903600@ohairpark.org
SUMMARY:Yoga In The Park 082423
DESCRIPTION:Join us for YOGA In The Park!\nGet details and register here!\n\n2023 OHPCA & Detroit Pistons Neighbors Program ~ Yoga in the Park
URL:https://ohairpark.org/event/yoga-in-the-park-082423/
LOCATION:O’Hair Park Shelter #1\, 20101 Stahelin Ave\, Detroit\, MI\, 48219\, United States
CATEGORIES:Events in the Park
END:VEVENT
BEGIN:VEVENT
DTSTART;TZID=America/Detroit:20230823T140000
DTEND;TZID=America/Detroit:20230823T160000
DTSTAMP:20260419T224629
CREATED:20230630T020027Z
LAST-MODIFIED:20230717T124458Z
UID:4151-1692799200-1692806400@ohairpark.org
SUMMARY:Fun Nature Activities In The Park 082323
DESCRIPTION:Join us for Fun Nature Activities In The Park 082323\nGet details and register here!\n\n 
URL:https://ohairpark.org/event/fun-nature-activities-in-the-park-082323/
LOCATION:O’Hair Park Shelter #1\, 20101 Stahelin Ave\, Detroit\, MI\, 48219\, United States
CATEGORIES:Events in the Park
END:VEVENT
BEGIN:VEVENT
DTSTART;TZID=America/Detroit:20230823T140000
DTEND;TZID=America/Detroit:20230823T150000
DTSTAMP:20260419T224629
CREATED:20230630T013715Z
LAST-MODIFIED:20230630T013715Z
UID:4103-1692799200-1692802800@ohairpark.org
SUMMARY:Martial Arts In The Park 082323
DESCRIPTION:Join us for Martial arts In The Park!\nGet details and Register here!
URL:https://ohairpark.org/event/martial-arts-in-the-park-082323/
LOCATION:O’Hair Park Shelter #1\, 20101 Stahelin Ave\, Detroit\, MI\, 48219\, United States
CATEGORIES:Events in the Park
END:VEVENT
BEGIN:VEVENT
DTSTART;TZID=America/Detroit:20230823T130000
DTEND;TZID=America/Detroit:20230823T160000
DTSTAMP:20260419T224629
CREATED:20230630T015542Z
LAST-MODIFIED:20230630T015542Z
UID:4144-1692795600-1692806400@ohairpark.org
SUMMARY:Free Play In The Park 082323
DESCRIPTION:Join us for FREE PLAY In The Park!\nGet details here!\nNo registration needed\, just show up and play!
URL:https://ohairpark.org/event/free-play-in-the-park-082323/
LOCATION:O’Hair Park Shelter #1\, 20101 Stahelin Ave\, Detroit\, MI\, 48219\, United States
CATEGORIES:Events in the Park
END:VEVENT
BEGIN:VEVENT
DTSTART;TZID=America/Detroit:20230823T130000
DTEND;TZID=America/Detroit:20230823T140000
DTSTAMP:20260419T224629
CREATED:20230630T014112Z
LAST-MODIFIED:20230630T014112Z
UID:4110-1692795600-1692799200@ohairpark.org
SUMMARY:Basketball In The Park 082323
DESCRIPTION:Join us for basketball In The Park!\nGet details and Register here!
URL:https://ohairpark.org/event/basketball-in-the-park-082323/
LOCATION:O’Hair Park Shelter #1\, 20101 Stahelin Ave\, Detroit\, MI\, 48219\, United States
CATEGORIES:Events in the Park
END:VEVENT
BEGIN:VEVENT
DTSTART;TZID=America/Detroit:20230822T183000
DTEND;TZID=America/Detroit:20230822T193000
DTSTAMP:20260419T224629
CREATED:20230630T024819Z
LAST-MODIFIED:20230630T024819Z
UID:4238-1692729000-1692732600@ohairpark.org
SUMMARY:Healthy Hustle in the Park 082223
DESCRIPTION:Join OUR healthy hustle In The Park!\nGet details and register here!
URL:https://ohairpark.org/event/healthy-hustle-in-the-park-082223/
LOCATION:O’Hair Park Shelter #1\, 20101 Stahelin Ave\, Detroit\, MI\, 48219\, United States
CATEGORIES:Events in the Park
END:VEVENT
BEGIN:VEVENT
DTSTART;TZID=America/Detroit:20230818T183000
DTEND;TZID=America/Detroit:20230818T193000
DTSTAMP:20260419T224629
CREATED:20230630T023809Z
LAST-MODIFIED:20230630T023809Z
UID:4217-1692383400-1692387000@ohairpark.org
SUMMARY:Walking Club In The Park 081823
DESCRIPTION:Join OUR WALKING CLUB In The Park!\nGet details and register here!
URL:https://ohairpark.org/event/walking-club-in-the-park-081823/
LOCATION:O’Hair Park Shelter #1\, 20101 Stahelin Ave\, Detroit\, MI\, 48219\, United States
CATEGORIES:Events in the Park
END:VEVENT
BEGIN:VEVENT
DTSTART;TZID=America/Detroit:20230817T180000
DTEND;TZID=America/Detroit:20230817T190000
DTSTAMP:20260419T224629
CREATED:20230630T022426Z
LAST-MODIFIED:20230630T022426Z
UID:4192-1692295200-1692298800@ohairpark.org
SUMMARY:Yoga In The Park 081723
DESCRIPTION:Join us for YOGA In The Park!\nGet details and register here!\n\n2023 OHPCA & Detroit Pistons Neighbors Program ~ Yoga in the Park
URL:https://ohairpark.org/event/yoga-in-the-park-081723/
LOCATION:O’Hair Park Shelter #1\, 20101 Stahelin Ave\, Detroit\, MI\, 48219\, United States
CATEGORIES:Events in the Park
END:VEVENT
BEGIN:VEVENT
DTSTART;TZID=America/Detroit:20230816T140000
DTEND;TZID=America/Detroit:20230816T160000
DTSTAMP:20260419T224629
CREATED:20230630T020117Z
LAST-MODIFIED:20230717T124429Z
UID:4154-1692194400-1692201600@ohairpark.org
SUMMARY:Fun Nature Activities In The Park 081623
DESCRIPTION:Join us for Fun Nature Activities In The Park 081623\nGet details and register here!
URL:https://ohairpark.org/event/fun-nature-activities-in-the-park-080923-2/
LOCATION:O’Hair Park Shelter #1\, 20101 Stahelin Ave\, Detroit\, MI\, 48219\, United States
CATEGORIES:Events in the Park
END:VEVENT
BEGIN:VEVENT
DTSTART;TZID=America/Detroit:20230816T140000
DTEND;TZID=America/Detroit:20230816T150000
DTSTAMP:20260419T224629
CREATED:20230630T013641Z
LAST-MODIFIED:20230630T013641Z
UID:4101-1692194400-1692198000@ohairpark.org
SUMMARY:Martial Arts In The Park 081623
DESCRIPTION:Join us for Martial arts In The Park!\nGet details and Register here!
URL:https://ohairpark.org/event/martial-arts-in-the-park-081623/
LOCATION:O’Hair Park Shelter #1\, 20101 Stahelin Ave\, Detroit\, MI\, 48219\, United States
CATEGORIES:Events in the Park
END:VEVENT
BEGIN:VEVENT
DTSTART;TZID=America/Detroit:20230816T130000
DTEND;TZID=America/Detroit:20230816T160000
DTSTAMP:20260419T224629
CREATED:20230630T015504Z
LAST-MODIFIED:20230630T015504Z
UID:4142-1692190800-1692201600@ohairpark.org
SUMMARY:Free Play In The Park 081623
DESCRIPTION:Join us for FREE PLAY In The Park!\nGet details here!\nNo registration needed\, just show up and play!\n 
URL:https://ohairpark.org/event/free-play-in-the-park-081623/
LOCATION:O’Hair Park Shelter #1\, 20101 Stahelin Ave\, Detroit\, MI\, 48219\, United States
CATEGORIES:Events in the Park
END:VEVENT
BEGIN:VEVENT
DTSTART;TZID=America/Detroit:20230816T130000
DTEND;TZID=America/Detroit:20230816T140000
DTSTAMP:20260419T224629
CREATED:20230630T014144Z
LAST-MODIFIED:20230630T014256Z
UID:4112-1692190800-1692194400@ohairpark.org
SUMMARY:Basketball In The Park 081623
DESCRIPTION:Join us for BASKETBALL In The Park!\nGet details and Register here!
URL:https://ohairpark.org/event/basketball-in-the-park-081623/
LOCATION:O’Hair Park Shelter #1\, 20101 Stahelin Ave\, Detroit\, MI\, 48219\, United States
CATEGORIES:Events in the Park
END:VEVENT
BEGIN:VEVENT
DTSTART;TZID=America/Detroit:20230815T183000
DTEND;TZID=America/Detroit:20230815T193000
DTSTAMP:20260419T224629
CREATED:20230630T024735Z
LAST-MODIFIED:20230630T024735Z
UID:4236-1692124200-1692127800@ohairpark.org
SUMMARY:Healthy Hustle in the Park 081523
DESCRIPTION:Join OUR healthy hustle In The Park!\nGet details and register here!
URL:https://ohairpark.org/event/healthy-hustle-in-the-park-081523/
LOCATION:O’Hair Park Shelter #1\, 20101 Stahelin Ave\, Detroit\, MI\, 48219\, United States
CATEGORIES:Events in the Park
END:VEVENT
BEGIN:VEVENT
DTSTART;TZID=America/Detroit:20230811T183000
DTEND;TZID=America/Detroit:20230811T193000
DTSTAMP:20260419T224629
CREATED:20230630T023312Z
LAST-MODIFIED:20230630T023729Z
UID:4207-1691778600-1691782200@ohairpark.org
SUMMARY:Walking Club In The Park 081123
DESCRIPTION:Join OUR WALKING CLUB In The Park!\nGet details and register here!
URL:https://ohairpark.org/event/walking-club-in-the-park-081123/
LOCATION:O’Hair Park Shelter #1\, 20101 Stahelin Ave\, Detroit\, MI\, 48219\, United States
CATEGORIES:Events in the Park
END:VEVENT
BEGIN:VEVENT
DTSTART;TZID=America/Detroit:20230810T180000
DTEND;TZID=America/Detroit:20230810T190000
DTSTAMP:20260419T224629
CREATED:20230630T022347Z
LAST-MODIFIED:20230630T022347Z
UID:4190-1691690400-1691694000@ohairpark.org
SUMMARY:Yoga In The Park 081023
DESCRIPTION:Join us for YOGA In The Park!\nGet details and register here!\n\n2023 OHPCA & Detroit Pistons Neighbors Program ~ Yoga in the Park
URL:https://ohairpark.org/event/yoga-in-the-park-081023/
LOCATION:O’Hair Park Shelter #1\, 20101 Stahelin Ave\, Detroit\, MI\, 48219\, United States
CATEGORIES:Events in the Park
END:VEVENT
BEGIN:VEVENT
DTSTART;TZID=America/Detroit:20230809T140000
DTEND;TZID=America/Detroit:20230809T160000
DTSTAMP:20260419T224629
CREATED:20230630T020155Z
LAST-MODIFIED:20230717T124354Z
UID:4156-1691589600-1691596800@ohairpark.org
SUMMARY:Fun Nature Activities In The Park 080923
DESCRIPTION:Join us for Fun Nature Activities In The Park 080923\nGet details and register here!
URL:https://ohairpark.org/event/fun-nature-activities-in-the-park-080923/
LOCATION:O’Hair Park Shelter #1\, 20101 Stahelin Ave\, Detroit\, MI\, 48219\, United States
CATEGORIES:Events in the Park
END:VEVENT
BEGIN:VEVENT
DTSTART;TZID=America/Detroit:20230809T140000
DTEND;TZID=America/Detroit:20230809T150000
DTSTAMP:20260419T224629
CREATED:20230630T013557Z
LAST-MODIFIED:20230630T013557Z
UID:4099-1691589600-1691593200@ohairpark.org
SUMMARY:Martial Arts In The Park 080923
DESCRIPTION:Join us for Martial arts In The Park!\nGet details and Register here!
URL:https://ohairpark.org/event/martial-arts-in-the-park-080923/
LOCATION:O’Hair Park Shelter #1\, 20101 Stahelin Ave\, Detroit\, MI\, 48219\, United States
CATEGORIES:Events in the Park
END:VEVENT
END:VCALENDAR