BEGIN:VCALENDAR
VERSION:2.0
PRODID:-//O&#039;Hair Park Association - ECPv6.15.20//NONSGML v1.0//EN
CALSCALE:GREGORIAN
METHOD:PUBLISH
X-WR-CALNAME:O&#039;Hair Park Association
X-ORIGINAL-URL:https://ohairpark.org
X-WR-CALDESC:Events for O&#039;Hair Park Association
REFRESH-INTERVAL;VALUE=DURATION:PT1H
X-Robots-Tag:noindex
X-PUBLISHED-TTL:PT1H
BEGIN:VTIMEZONE
TZID:America/Detroit
BEGIN:DAYLIGHT
TZOFFSETFROM:-0500
TZOFFSETTO:-0400
TZNAME:EDT
DTSTART:20220313T070000
END:DAYLIGHT
BEGIN:STANDARD
TZOFFSETFROM:-0400
TZOFFSETTO:-0500
TZNAME:EST
DTSTART:20221106T060000
END:STANDARD
BEGIN:DAYLIGHT
TZOFFSETFROM:-0500
TZOFFSETTO:-0400
TZNAME:EDT
DTSTART:20230312T070000
END:DAYLIGHT
BEGIN:STANDARD
TZOFFSETFROM:-0400
TZOFFSETTO:-0500
TZNAME:EST
DTSTART:20231105T060000
END:STANDARD
BEGIN:DAYLIGHT
TZOFFSETFROM:-0500
TZOFFSETTO:-0400
TZNAME:EDT
DTSTART:20240310T070000
END:DAYLIGHT
BEGIN:STANDARD
TZOFFSETFROM:-0400
TZOFFSETTO:-0500
TZNAME:EST
DTSTART:20241103T060000
END:STANDARD
END:VTIMEZONE
BEGIN:VEVENT
DTSTART;TZID=America/Detroit:20230325T100000
DTEND;TZID=America/Detroit:20230325T110000
DTSTAMP:20260419T172417
CREATED:20230227T153030Z
LAST-MODIFIED:20230227T153030Z
UID:3959-1679738400-1679742000@ohairpark.org
SUMMARY:D1 Monthly Meeting - 032523
DESCRIPTION:D1 Monthly Meeting\nDATE: Thursday\, March 25\, 2023 \nLOCATION: TBD \nTIME: 10:00 am \nMore info to come! Check back here or sign up for our Newsletter  to get updates sent directly to you.
URL:https://ohairpark.org/event/d1-monthly-meeting-032523/
LOCATION:MI
CATEGORIES:Meeting
END:VEVENT
BEGIN:VEVENT
DTSTART;TZID=America/Detroit:20230401T090000
DTEND;TZID=America/Detroit:20230401T140000
DTSTAMP:20260419T172417
CREATED:20230227T153454Z
LAST-MODIFIED:20230227T153454Z
UID:3961-1680339600-1680357600@ohairpark.org
SUMMARY:DP Partnership Day (UM) - Clean up 040123
DESCRIPTION:DP Partnership Day (UM) –\nClean up 040123\nWHEN: Saturday\, April 1\, 2023 \nTime : 9:00am \nLocation: O’Hair Park\, Shelter at Pembroke & Edinborough \n19400 Pembroke Ave\, Detroit\, MI 48219 \nMore info to come! Check back here or sign up for our Newsletter  to get updates sent directly to you.
URL:https://ohairpark.org/event/dp-partnership-day-um-clean-up-040123/
LOCATION:O’Hair Park Shelter #1\, 20101 Stahelin Ave\, Detroit\, MI\, 48219\, United States
CATEGORIES:Events in the Park
END:VEVENT
BEGIN:VEVENT
DTSTART;TZID=America/Detroit:20230415T100000
DTEND;TZID=America/Detroit:20230415T120000
DTSTAMP:20260419T172417
CREATED:20230227T153600Z
LAST-MODIFIED:20230227T153600Z
UID:3963-1681552800-1681560000@ohairpark.org
SUMMARY:Calvary Presbyterian Church Food Distribution 041523
DESCRIPTION:Calvary Presbyterian Church Food Distribution\nDATE: Saturday\, April 15\, 2023 \nLOCATION: Calvary Presbyterian Church – Fellowship Hall\, 19125 Greenview Avenue\, Detroit\, MI 48219 \nTIME: 10:00 am \nMore info to come! Check back here or sign up for our Newsletter  to get updates sent directly to you.
URL:https://ohairpark.org/event/calvary-presbyterian-church-food-distribution-041523/
LOCATION:Calvary Presbyterian Church Hall\, 19125 Greenview Ave\,\, Detroit\,\, MI\, 48219\, United States
CATEGORIES:Meeting
END:VEVENT
BEGIN:VEVENT
DTSTART;TZID=America/Detroit:20230418T183000
DTEND;TZID=America/Detroit:20230418T193000
DTSTAMP:20260419T172417
CREATED:20230227T154159Z
LAST-MODIFIED:20230227T154159Z
UID:3967-1681842600-1681846200@ohairpark.org
SUMMARY:OHPCA ZOOM OPEN BOARD MEETING 041823
DESCRIPTION:OHPCA ZOOM open board MEETING\nThe Next OHPCA Open Board Meeting is\nTuesday\, April 18 at 6:30 pm \nZOOM info: https://us02web.zoom.us/j/87314421799? \npwd=cWliRmRmL0hXOGNFOENCOUp0V0MxUT09 \nMeeting ID: 873 1442 1799 \nPasscode: 019318
URL:https://ohairpark.org/event/ohpca-zoom-open-board-meeting-041823/
LOCATION:MI
CATEGORIES:Meeting
END:VEVENT
BEGIN:VEVENT
DTSTART;TZID=America/Detroit:20230422T090000
DTEND;TZID=America/Detroit:20230422T140000
DTSTAMP:20260419T172417
CREATED:20230227T154649Z
LAST-MODIFIED:20230227T154649Z
UID:3971-1682154000-1682172000@ohairpark.org
SUMMARY:Soccer in the D - O’Hair Park 042223
DESCRIPTION:Soccer in the D – O’Hair Park\nWHEN: Saturday\, April 22\, 2023 \nTime : 9:00am \nLocation: O’Hair Park\, Shelter at Pembroke & Edinborough \n19400 Pembroke Ave\, Detroit\, MI 48219 \nMore info to come! Check back here or sign up for our Newsletter  to get updates sent directly to you.
URL:https://ohairpark.org/event/soccer-in-the-d-ohair-park-042223/
LOCATION:O’Hair Park Shelter #1\, 20101 Stahelin Ave\, Detroit\, MI\, 48219\, United States
CATEGORIES:Events in the Park
END:VEVENT
BEGIN:VEVENT
DTSTART;TZID=America/Detroit:20230422T100000
DTEND;TZID=America/Detroit:20230422T110000
DTSTAMP:20260419T172417
CREATED:20230227T154340Z
LAST-MODIFIED:20230227T154340Z
UID:3969-1682157600-1682161200@ohairpark.org
SUMMARY:D1 Monthly Meeting - 042223
DESCRIPTION:D1 Monthly Meeting\nDATE: Saturday\, April 22\, 2023 \nLOCATION: TBD \nTIME: 10:00 am \nMore info to come! Check back here or sign up for our Newsletter  to get updates sent directly to you.
URL:https://ohairpark.org/event/d1-monthly-meeting-042223/
LOCATION:MI
CATEGORIES:Meeting
END:VEVENT
BEGIN:VEVENT
DTSTART;TZID=America/Detroit:20230427T173000
DTEND;TZID=America/Detroit:20230427T180000
DTSTAMP:20260419T172417
CREATED:20230227T154846Z
LAST-MODIFIED:20230227T154846Z
UID:3976-1682616600-1682618400@ohairpark.org
SUMMARY:DON Monthly Meeting - Crowell Community Center 042723
DESCRIPTION:DON Monthly Meeting –\nCrowell Community Center\nDATE: Thursday\, April 27\, 2023 \nLOCATION: Crowell Community Center 16630 Lahser Rd\, Detroit\, MI 48219 \nTIME: 5:30 pm \nMore info to come! Check back here or sign up for our Newsletter  to get updates sent directly to you.
URL:https://ohairpark.org/event/don-monthly-meeting-crowell-community-center-042723/
LOCATION:Crowell Community Center\, 16630 Lahser Rd\, Detroit\, MI\, 48219\, United States
CATEGORIES:Meeting
END:VEVENT
BEGIN:VEVENT
DTSTART;TZID=America/Detroit:20230705T130000
DTEND;TZID=America/Detroit:20230705T140000
DTSTAMP:20260419T172417
CREATED:20230630T014745Z
LAST-MODIFIED:20230630T014745Z
UID:4125-1688562000-1688565600@ohairpark.org
SUMMARY:Basketball In The Park 070523
DESCRIPTION:Join us for BASKETBALL In The Park!\nGet details and Register here!
URL:https://ohairpark.org/event/basketball-in-the-park-070523/
LOCATION:O’Hair Park Shelter #1\, 20101 Stahelin Ave\, Detroit\, MI\, 48219\, United States
CATEGORIES:Events in the Park
END:VEVENT
BEGIN:VEVENT
DTSTART;TZID=America/Detroit:20230705T130000
DTEND;TZID=America/Detroit:20230705T160000
DTSTAMP:20260419T172417
CREATED:20230630T014914Z
LAST-MODIFIED:20230630T015104Z
UID:4127-1688562000-1688572800@ohairpark.org
SUMMARY:Free Play In The Park 070523
DESCRIPTION:Join us for FREE PLAY In The Park!\nGet details here!\nNo registration needed\, just show up and play!\n2023 OHPCA & Detroit Pistons Neighbors Program ~ Free Play in the Park
URL:https://ohairpark.org/event/free-play-in-the-park-070523/
LOCATION:O’Hair Park Shelter #1\, 20101 Stahelin Ave\, Detroit\, MI\, 48219\, United States
CATEGORIES:Events in the Park
END:VEVENT
BEGIN:VEVENT
DTSTART;TZID=America/Detroit:20230705T140000
DTEND;TZID=America/Detroit:20230705T150000
DTSTAMP:20260419T172417
CREATED:20230630T012657Z
LAST-MODIFIED:20230630T013140Z
UID:4082-1688565600-1688569200@ohairpark.org
SUMMARY:Martial Arts In The Park 070523
DESCRIPTION:Join us for Martial arts In The Park!\nGet details and Register here!
URL:https://ohairpark.org/event/martial-arts-in-the-park-070523/
LOCATION:O’Hair Park Shelter #1\, 20101 Stahelin Ave\, Detroit\, MI\, 48219\, United States
CATEGORIES:Events in the Park
END:VEVENT
BEGIN:VEVENT
DTSTART;TZID=America/Detroit:20230706T180000
DTEND;TZID=America/Detroit:20230706T190000
DTSTAMP:20260419T172417
CREATED:20230630T020843Z
LAST-MODIFIED:20230630T021518Z
UID:4168-1688666400-1688670000@ohairpark.org
SUMMARY:Yoga In The Park 070623
DESCRIPTION:Join us for YOGA In The Park!\nGet details and register here!\n\n2023 OHPCA & Detroit Pistons Neighbors Program ~ Yoga in the Park
URL:https://ohairpark.org/event/yoga-in-the-park-070623/
LOCATION:O’Hair Park Shelter #1\, 20101 Stahelin Ave\, Detroit\, MI\, 48219\, United States
CATEGORIES:Events in the Park
END:VEVENT
BEGIN:VEVENT
DTSTART;TZID=America/Detroit:20230707T183000
DTEND;TZID=America/Detroit:20230707T193000
DTSTAMP:20260419T172417
CREATED:20230630T022936Z
LAST-MODIFIED:20230630T023531Z
UID:4198-1688754600-1688758200@ohairpark.org
SUMMARY:Walking Club In The Park 070723
DESCRIPTION:Join OUR WALKING CLUB In The Park!\nGet details and register here!
URL:https://ohairpark.org/event/walking-club-in-the-park-070723/
LOCATION:O’Hair Park Shelter #1\, 20101 Stahelin Ave\, Detroit\, MI\, 48219\, United States
CATEGORIES:Events in the Park
END:VEVENT
BEGIN:VEVENT
DTSTART;TZID=America/Detroit:20230711T183000
DTEND;TZID=America/Detroit:20230711T193000
DTSTAMP:20260419T172417
CREATED:20230630T024247Z
LAST-MODIFIED:20230630T024247Z
UID:4223-1689100200-1689103800@ohairpark.org
SUMMARY:Healthy Hustle in the Park 071123
DESCRIPTION:Join OUR healthy hustle In The Park!\nGet details and register here!
URL:https://ohairpark.org/event/healthy-hustle-in-the-park-071123/
LOCATION:O’Hair Park Shelter #1\, 20101 Stahelin Ave\, Detroit\, MI\, 48219\, United States
CATEGORIES:Events in the Park
END:VEVENT
BEGIN:VEVENT
DTSTART;TZID=America/Detroit:20230712T130000
DTEND;TZID=America/Detroit:20230712T140000
DTSTAMP:20260419T172417
CREATED:20230630T014709Z
LAST-MODIFIED:20230630T014709Z
UID:4123-1689166800-1689170400@ohairpark.org
SUMMARY:Basketball In The Park 071223
DESCRIPTION:Join us for BASKETBALL In The Park!\nGet details and Register here!
URL:https://ohairpark.org/event/basketball-in-the-park-071223/
LOCATION:O’Hair Park Shelter #1\, 20101 Stahelin Ave\, Detroit\, MI\, 48219\, United States
CATEGORIES:Events in the Park
END:VEVENT
BEGIN:VEVENT
DTSTART;TZID=America/Detroit:20230712T130000
DTEND;TZID=America/Detroit:20230712T160000
DTSTAMP:20260419T172417
CREATED:20230630T015138Z
LAST-MODIFIED:20230630T015138Z
UID:4132-1689166800-1689177600@ohairpark.org
SUMMARY:Free Play In The Park 071223
DESCRIPTION:Join us for FREE PLAY In The Park!\nGet details here!\nNo registration needed\, just show up and play!\n2023 OHPCA & Detroit Pistons Neighbors Program ~ Free Play in the Park
URL:https://ohairpark.org/event/free-play-in-the-park-071223/
LOCATION:O’Hair Park Shelter #1\, 20101 Stahelin Ave\, Detroit\, MI\, 48219\, United States
CATEGORIES:Events in the Park
END:VEVENT
BEGIN:VEVENT
DTSTART;TZID=America/Detroit:20230712T140000
DTEND;TZID=America/Detroit:20230712T150000
DTSTAMP:20260419T172417
CREATED:20230630T013239Z
LAST-MODIFIED:20230630T013239Z
UID:4091-1689170400-1689174000@ohairpark.org
SUMMARY:Martial Arts In The Park 071223
DESCRIPTION:Join us for Martial arts In The Park!\nGet details and Register here!
URL:https://ohairpark.org/event/martial-arts-in-the-park-071223/
LOCATION:O’Hair Park Shelter #1\, 20101 Stahelin Ave\, Detroit\, MI\, 48219\, United States
CATEGORIES:Events in the Park
END:VEVENT
BEGIN:VEVENT
DTSTART;TZID=America/Detroit:20230713T180000
DTEND;TZID=America/Detroit:20230713T190000
DTSTAMP:20260419T172417
CREATED:20230630T021648Z
LAST-MODIFIED:20230630T021648Z
UID:4182-1689271200-1689274800@ohairpark.org
SUMMARY:Yoga In The Park 071323
DESCRIPTION:Join us for YOGA In The Park!\nGet details and register here!\n\n2023 OHPCA & Detroit Pistons Neighbors Program ~ Yoga in the Park
URL:https://ohairpark.org/event/yoga-in-the-park-071323/
LOCATION:O’Hair Park Shelter #1\, 20101 Stahelin Ave\, Detroit\, MI\, 48219\, United States
CATEGORIES:Events in the Park
END:VEVENT
BEGIN:VEVENT
DTSTART;TZID=America/Detroit:20230714T183000
DTEND;TZID=America/Detroit:20230714T193000
DTSTAMP:20260419T172417
CREATED:20230630T023030Z
LAST-MODIFIED:20230630T023550Z
UID:4201-1689359400-1689363000@ohairpark.org
SUMMARY:Walking Club In The Park 071423
DESCRIPTION:Join OUR WALKING CLUB In The Park!\nGet details and register here!
URL:https://ohairpark.org/event/walking-club-in-the-park-071423/
LOCATION:O’Hair Park Shelter #1\, 20101 Stahelin Ave\, Detroit\, MI\, 48219\, United States
CATEGORIES:Events in the Park
END:VEVENT
BEGIN:VEVENT
DTSTART;TZID=America/Detroit:20230718T183000
DTEND;TZID=America/Detroit:20230718T193000
DTSTAMP:20260419T172417
CREATED:20230630T024329Z
LAST-MODIFIED:20230630T024329Z
UID:4226-1689705000-1689708600@ohairpark.org
SUMMARY:Healthy Hustle in the Park 071823
DESCRIPTION:Join OUR healthy hustle In The Park!\nGet details and register here!
URL:https://ohairpark.org/event/healthy-hustle-in-the-park-071823/
LOCATION:O’Hair Park Shelter #1\, 20101 Stahelin Ave\, Detroit\, MI\, 48219\, United States
CATEGORIES:Events in the Park
END:VEVENT
BEGIN:VEVENT
DTSTART;TZID=America/Detroit:20230719T130000
DTEND;TZID=America/Detroit:20230719T140000
DTSTAMP:20260419T172417
CREATED:20230630T014627Z
LAST-MODIFIED:20230630T014627Z
UID:4121-1689771600-1689775200@ohairpark.org
SUMMARY:Basketball In The Park 071923
DESCRIPTION:Join us for BASKETBALL In The Park!\nGet details and Register here!
URL:https://ohairpark.org/event/basketball-in-the-park-071923/
LOCATION:O’Hair Park Shelter #1\, 20101 Stahelin Ave\, Detroit\, MI\, 48219\, United States
CATEGORIES:Events in the Park
END:VEVENT
BEGIN:VEVENT
DTSTART;TZID=America/Detroit:20230719T130000
DTEND;TZID=America/Detroit:20230719T160000
DTSTAMP:20260419T172417
CREATED:20230630T015212Z
LAST-MODIFIED:20230630T015212Z
UID:4134-1689771600-1689782400@ohairpark.org
SUMMARY:Free Play In The Park 071923
DESCRIPTION:Join us for FREE PLAY In The Park!\nGet details here!\nNo registration needed\, just show up and play!\n2023 OHPCA & Detroit Pistons Neighbors Program ~ Free Play in the Park
URL:https://ohairpark.org/event/free-play-in-the-park-071923/
LOCATION:O’Hair Park Shelter #1\, 20101 Stahelin Ave\, Detroit\, MI\, 48219\, United States
CATEGORIES:Events in the Park
END:VEVENT
BEGIN:VEVENT
DTSTART;TZID=America/Detroit:20230719T140000
DTEND;TZID=America/Detroit:20230719T150000
DTSTAMP:20260419T172417
CREATED:20230630T013317Z
LAST-MODIFIED:20230630T013317Z
UID:4093-1689775200-1689778800@ohairpark.org
SUMMARY:Martial Arts In The Park 071923
DESCRIPTION:Join us for Martial arts In The Park!\nGet details and Register here!
URL:https://ohairpark.org/event/martial-arts-in-the-park-071923/
LOCATION:O’Hair Park Shelter #1\, 20101 Stahelin Ave\, Detroit\, MI\, 48219\, United States
CATEGORIES:Events in the Park
END:VEVENT
BEGIN:VEVENT
DTSTART;TZID=America/Detroit:20230719T140000
DTEND;TZID=America/Detroit:20230719T160000
DTSTAMP:20260419T172417
CREATED:20230630T020412Z
LAST-MODIFIED:20230717T124151Z
UID:4162-1689775200-1689782400@ohairpark.org
SUMMARY:Fun Nature Activities In The Park 071923
DESCRIPTION:Join us for Fun Nature Activities In The Park 071923\nGet details and register here!
URL:https://ohairpark.org/event/fun-nature-activities-in-the-park-071923/
LOCATION:O’Hair Park Shelter #1\, 20101 Stahelin Ave\, Detroit\, MI\, 48219\, United States
CATEGORIES:Events in the Park
END:VEVENT
BEGIN:VEVENT
DTSTART;TZID=America/Detroit:20230720T180000
DTEND;TZID=America/Detroit:20230720T190000
DTSTAMP:20260419T172417
CREATED:20230630T022053Z
LAST-MODIFIED:20230630T022053Z
UID:4184-1689876000-1689879600@ohairpark.org
SUMMARY:Yoga In The Park 072023
DESCRIPTION:Join us for YOGA In The Park!\nGet details and register here!\n\n2023 OHPCA & Detroit Pistons Neighbors Program ~ Yoga in the Park
URL:https://ohairpark.org/event/yoga-in-the-park-072023/
LOCATION:O’Hair Park Shelter #1\, 20101 Stahelin Ave\, Detroit\, MI\, 48219\, United States
CATEGORIES:Events in the Park
END:VEVENT
BEGIN:VEVENT
DTSTART;TZID=America/Detroit:20230721T183000
DTEND;TZID=America/Detroit:20230721T193000
DTSTAMP:20260419T172417
CREATED:20230630T023139Z
LAST-MODIFIED:20230630T023604Z
UID:4203-1689964200-1689967800@ohairpark.org
SUMMARY:Walking Club In The Park 072123
DESCRIPTION:Join OUR WALKING CLUB In The Park!\nGet details and register here!
URL:https://ohairpark.org/event/walking-club-in-the-park-072123/
LOCATION:O’Hair Park Shelter #1\, 20101 Stahelin Ave\, Detroit\, MI\, 48219\, United States
CATEGORIES:Events in the Park
END:VEVENT
BEGIN:VEVENT
DTSTART;TZID=America/Detroit:20230725T183000
DTEND;TZID=America/Detroit:20230725T193000
DTSTAMP:20260419T172417
CREATED:20230630T024438Z
LAST-MODIFIED:20230630T024438Z
UID:4228-1690309800-1690313400@ohairpark.org
SUMMARY:Healthy Hustle in the Park 072523
DESCRIPTION:Join OUR healthy hustle In The Park!\nGet details and register here!
URL:https://ohairpark.org/event/healthy-hustle-in-the-park-072523/
LOCATION:O’Hair Park Shelter #1\, 20101 Stahelin Ave\, Detroit\, MI\, 48219\, United States
CATEGORIES:Events in the Park
END:VEVENT
BEGIN:VEVENT
DTSTART;TZID=America/Detroit:20230726T130000
DTEND;TZID=America/Detroit:20230726T140000
DTSTAMP:20260419T172417
CREATED:20230630T014525Z
LAST-MODIFIED:20230630T014525Z
UID:4119-1690376400-1690380000@ohairpark.org
SUMMARY:Basketball In The Park 072623
DESCRIPTION:Join us for BASKETBALL In The Park!\nGet details and Register here!
URL:https://ohairpark.org/event/basketball-in-the-park-072623/
LOCATION:O’Hair Park Shelter #1\, 20101 Stahelin Ave\, Detroit\, MI\, 48219\, United States
CATEGORIES:Events in the Park
END:VEVENT
BEGIN:VEVENT
DTSTART;TZID=America/Detroit:20230726T130000
DTEND;TZID=America/Detroit:20230726T160000
DTSTAMP:20260419T172417
CREATED:20230630T015246Z
LAST-MODIFIED:20230630T015246Z
UID:4136-1690376400-1690387200@ohairpark.org
SUMMARY:Free Play In The Park 072623
DESCRIPTION:Join us for FREE PLAY In The Park!\nGet details here!\nNo registration needed\, just show up and play!\n2023 OHPCA & Detroit Pistons Neighbors Program ~ Free Play in the Park
URL:https://ohairpark.org/event/free-play-in-the-park-072623/
LOCATION:O’Hair Park Shelter #1\, 20101 Stahelin Ave\, Detroit\, MI\, 48219\, United States
CATEGORIES:Events in the Park
END:VEVENT
BEGIN:VEVENT
DTSTART;TZID=America/Detroit:20230726T140000
DTEND;TZID=America/Detroit:20230726T150000
DTSTAMP:20260419T172417
CREATED:20230630T013420Z
LAST-MODIFIED:20230630T013420Z
UID:4095-1690380000-1690383600@ohairpark.org
SUMMARY:Martial Arts In The Park 072623
DESCRIPTION:Join us for Martial arts In The Park!\nGet details and Register here!
URL:https://ohairpark.org/event/martial-arts-in-the-park-072623/
LOCATION:O’Hair Park Shelter #1\, 20101 Stahelin Ave\, Detroit\, MI\, 48219\, United States
CATEGORIES:Events in the Park
END:VEVENT
BEGIN:VEVENT
DTSTART;TZID=America/Detroit:20230726T140000
DTEND;TZID=America/Detroit:20230726T160000
DTSTAMP:20260419T172417
CREATED:20230630T020314Z
LAST-MODIFIED:20230717T124253Z
UID:4160-1690380000-1690387200@ohairpark.org
SUMMARY:Fun Nature Activities In The Park 072623
DESCRIPTION:Join us for Fun Nature Activities In The Park 072623\nGet details and register here!\n\n 
URL:https://ohairpark.org/event/fun-nature-activities-in-the-park-072623/
LOCATION:O’Hair Park Shelter #1\, 20101 Stahelin Ave\, Detroit\, MI\, 48219\, United States
CATEGORIES:Events in the Park
END:VEVENT
END:VCALENDAR