BEGIN:VCALENDAR
VERSION:2.0
PRODID:-//O&#039;Hair Park Association - ECPv6.15.20//NONSGML v1.0//EN
CALSCALE:GREGORIAN
METHOD:PUBLISH
X-ORIGINAL-URL:https://ohairpark.org
X-WR-CALDESC:Events for O&#039;Hair Park Association
REFRESH-INTERVAL;VALUE=DURATION:PT1H
X-Robots-Tag:noindex
X-PUBLISHED-TTL:PT1H
BEGIN:VTIMEZONE
TZID:America/Detroit
BEGIN:DAYLIGHT
TZOFFSETFROM:-0500
TZOFFSETTO:-0400
TZNAME:EDT
DTSTART:20220313T070000
END:DAYLIGHT
BEGIN:STANDARD
TZOFFSETFROM:-0400
TZOFFSETTO:-0500
TZNAME:EST
DTSTART:20221106T060000
END:STANDARD
BEGIN:DAYLIGHT
TZOFFSETFROM:-0500
TZOFFSETTO:-0400
TZNAME:EDT
DTSTART:20230312T070000
END:DAYLIGHT
BEGIN:STANDARD
TZOFFSETFROM:-0400
TZOFFSETTO:-0500
TZNAME:EST
DTSTART:20231105T060000
END:STANDARD
BEGIN:DAYLIGHT
TZOFFSETFROM:-0500
TZOFFSETTO:-0400
TZNAME:EDT
DTSTART:20240310T070000
END:DAYLIGHT
BEGIN:STANDARD
TZOFFSETFROM:-0400
TZOFFSETTO:-0500
TZNAME:EST
DTSTART:20241103T060000
END:STANDARD
END:VTIMEZONE
BEGIN:VEVENT
DTSTART;TZID=America/Detroit:20231207T180000
DTEND;TZID=America/Detroit:20231207T200000
DTSTAMP:20260418T050111
CREATED:20230818T170941Z
LAST-MODIFIED:20231130T150052Z
UID:4308-1701972000-1701979200@ohairpark.org
SUMMARY:End of the Year Celebration 120723
DESCRIPTION:End of the Year Celebration\npresented by the O’Hair Park Community Association \nDATE: December 07\, 2023 \nPlease join us for the O’Hair Park Community Association End of the Year Celebration – 10 Years and Counting! \nEnjoy a special celebration of success full of food & fun memories! Calvary Presbyterian Church Detroit \n 
URL:https://ohairpark.org/event/end-of-the-year-celebration-120723/
LOCATION:Calvary Presbyterian Church Hall\, 19125 Greenview Ave\,\, Detroit\,\, MI\, 48219\, United States
CATEGORIES:Meeting
END:VEVENT
END:VCALENDAR