BEGIN:VCALENDAR
VERSION:2.0
PRODID:-//O&#039;Hair Park Association - ECPv6.15.20//NONSGML v1.0//EN
CALSCALE:GREGORIAN
METHOD:PUBLISH
X-WR-CALNAME:O&#039;Hair Park Association
X-ORIGINAL-URL:https://ohairpark.org
X-WR-CALDESC:Events for O&#039;Hair Park Association
REFRESH-INTERVAL;VALUE=DURATION:PT1H
X-Robots-Tag:noindex
X-PUBLISHED-TTL:PT1H
BEGIN:VTIMEZONE
TZID:America/Detroit
BEGIN:DAYLIGHT
TZOFFSETFROM:-0500
TZOFFSETTO:-0400
TZNAME:EDT
DTSTART:20230312T070000
END:DAYLIGHT
BEGIN:STANDARD
TZOFFSETFROM:-0400
TZOFFSETTO:-0500
TZNAME:EST
DTSTART:20231105T060000
END:STANDARD
BEGIN:DAYLIGHT
TZOFFSETFROM:-0500
TZOFFSETTO:-0400
TZNAME:EDT
DTSTART:20240310T070000
END:DAYLIGHT
BEGIN:STANDARD
TZOFFSETFROM:-0400
TZOFFSETTO:-0500
TZNAME:EST
DTSTART:20241103T060000
END:STANDARD
BEGIN:DAYLIGHT
TZOFFSETFROM:-0500
TZOFFSETTO:-0400
TZNAME:EDT
DTSTART:20250309T070000
END:DAYLIGHT
BEGIN:STANDARD
TZOFFSETFROM:-0400
TZOFFSETTO:-0500
TZNAME:EST
DTSTART:20251102T060000
END:STANDARD
END:VTIMEZONE
BEGIN:VEVENT
DTSTART;TZID=America/Detroit:20240222T173000
DTEND;TZID=America/Detroit:20240222T200000
DTSTAMP:20260419T085936
CREATED:20240212T123327Z
LAST-MODIFIED:20240212T185645Z
UID:4375-1708623000-1708632000@ohairpark.org
SUMMARY:OHPCA Black History Month Celebration! 022224
DESCRIPTION:black history month Celebration 2024\nYou are cordially invited to attend a dinner event celebrating Black History Month presented by the O’Hair Park Community Association!   \nWhen?\nFebruary 22\, 2024 @ 6pm prompt (check in at 5:30) \nWhere?\nRainbow Room at Corpus Christi Church\n19800 Pembroke Ave corner of Evergreen\n(Use Evergreen entrance for parking) \nWhat?\n* Prizes for Black Jeopardy and other games\, and African Dress outfits\n* Good Neighbor Award\n* Dinner\, Music and Raffle\n*Renew your membership\, join a committee\, volunteer! \nPlease complete form below and RSVP by February 19\, 2024\n\nFor questions\, please call or text Joyce Daniel at 313-516-5720.
URL:https://ohairpark.org/event/ohpca-black-history-month-celebration-022224/
LOCATION:Corpus Christi Catholic Church – Headstart Building\, 19800 Pembroke Ave\, Detroit\, MI\, 48219\, United States
CATEGORIES:Events in the Park
END:VEVENT
END:VCALENDAR