BEGIN:VCALENDAR
VERSION:2.0
PRODID:-//O&#039;Hair Park Association - ECPv6.15.20//NONSGML v1.0//EN
CALSCALE:GREGORIAN
METHOD:PUBLISH
X-WR-CALNAME:O&#039;Hair Park Association
X-ORIGINAL-URL:https://ohairpark.org
X-WR-CALDESC:Events for O&#039;Hair Park Association
REFRESH-INTERVAL;VALUE=DURATION:PT1H
X-Robots-Tag:noindex
X-PUBLISHED-TTL:PT1H
BEGIN:VTIMEZONE
TZID:America/Detroit
BEGIN:DAYLIGHT
TZOFFSETFROM:-0500
TZOFFSETTO:-0400
TZNAME:EDT
DTSTART:20230312T070000
END:DAYLIGHT
BEGIN:STANDARD
TZOFFSETFROM:-0400
TZOFFSETTO:-0500
TZNAME:EST
DTSTART:20231105T060000
END:STANDARD
BEGIN:DAYLIGHT
TZOFFSETFROM:-0500
TZOFFSETTO:-0400
TZNAME:EDT
DTSTART:20240310T070000
END:DAYLIGHT
BEGIN:STANDARD
TZOFFSETFROM:-0400
TZOFFSETTO:-0500
TZNAME:EST
DTSTART:20241103T060000
END:STANDARD
BEGIN:DAYLIGHT
TZOFFSETFROM:-0500
TZOFFSETTO:-0400
TZNAME:EDT
DTSTART:20250309T070000
END:DAYLIGHT
BEGIN:STANDARD
TZOFFSETFROM:-0400
TZOFFSETTO:-0500
TZNAME:EST
DTSTART:20251102T060000
END:STANDARD
END:VTIMEZONE
BEGIN:VEVENT
DTSTART;TZID=America/Detroit:20240425T180000
DTEND;TZID=America/Detroit:20240425T193000
DTSTAMP:20260419T221304
CREATED:20240212T124456Z
LAST-MODIFIED:20240212T185550Z
UID:4383-1714068000-1714073400@ohairpark.org
SUMMARY:OHPCA General Community Meeting 042524
DESCRIPTION:Community Meetings ~ In-Person\n4th Thursday @ 6:00 pm\n\nSave the Date for our Community Meetings that are open to\nthe public! Come share your thoughts on how to improve our\nneighborhood one block at a time! We always have great\nsurprises for our attendees\, please join us! \nApril 25 – Location TBD
URL:https://ohairpark.org/event/ohpca-general-community-meeting-042524/
CATEGORIES:Meeting
END:VEVENT
END:VCALENDAR